BEGIN:VCALENDAR
VERSION:2.0
PRODID:-//Plone.org//NONSGML plone.app.event//EN
X-WR-TIMEZONE:US/Central
BEGIN:VEVENT
SUMMARY:Closed for Labor Day
DTSTART;TZID=US/Central:20120901T090000
DTEND;TZID=US/Central:20120901T180000
DTSTAMP:20260424T094909Z
UID:48eac39aa5a3935bec5ab24a62fdd71e@saas_stack_varnish:6080
CONTACT:254-445-4141
CREATED:20120404T184706Z
LAST-MODIFIED:20120404T184724Z
LOCATION:Dublin Public Library
URL:https://www.dublinlibrary.org/library%20news/lib-cal/closed-for-labor-
 day.ics
END:VEVENT
BEGIN:VTIMEZONE
TZID:US/Central
X-LIC-LOCATION:US/Central
BEGIN:DAYLIGHT
DTSTART:20120311T030000
TZNAME:CDT
TZOFFSETFROM:-0600
TZOFFSETTO:-0500
END:DAYLIGHT
END:VTIMEZONE
END:VCALENDAR
