BEGIN:VCALENDAR
VERSION:2.0
PRODID:-//Plone.org//NONSGML plone.app.event//EN
X-WR-TIMEZONE:US/Central
BEGIN:VEVENT
SUMMARY:Closed
DTSTART;TZID=US/Central:20130216T000000
DTEND;TZID=US/Central:20130216T000000
DTSTAMP:20260420T152530Z
UID:5dd1bba795f1a03099e79f67a8288d17@saas_stack_varnish:6080
CREATED:20130118T170733Z
DESCRIPTION:Closed for President's Day
LAST-MODIFIED:20130118T170746Z
URL:https://www.dublinlibrary.org/library%20news/lib-cal/closed-for-thanks
 giving-24-25-27.ics
END:VEVENT
BEGIN:VTIMEZONE
TZID:US/Central
X-LIC-LOCATION:US/Central
BEGIN:STANDARD
DTSTART:20121104T010000
TZNAME:CST
TZOFFSETFROM:-0500
TZOFFSETTO:-0600
END:STANDARD
END:VTIMEZONE
END:VCALENDAR
